BEGIN:VCALENDAR
VERSION:2.0
PRODID:-//Up North Action - ECPv6.15.20//NONSGML v1.0//EN
CALSCALE:GREGORIAN
METHOD:PUBLISH
X-WR-CALNAME:Up North Action
X-ORIGINAL-URL:https://upnorthaction.com
X-WR-CALDESC:Events for Up North Action
REFRESH-INTERVAL;VALUE=DURATION:PT1H
X-Robots-Tag:noindex
X-PUBLISHED-TTL:PT1H
BEGIN:VTIMEZONE
TZID:America/Chicago
BEGIN:DAYLIGHT
TZOFFSETFROM:-0600
TZOFFSETTO:-0500
TZNAME:CDT
DTSTART:20210314T080000
END:DAYLIGHT
BEGIN:STANDARD
TZOFFSETFROM:-0500
TZOFFSETTO:-0600
TZNAME:CST
DTSTART:20211107T070000
END:STANDARD
BEGIN:DAYLIGHT
TZOFFSETFROM:-0600
TZOFFSETTO:-0500
TZNAME:CDT
DTSTART:20220313T080000
END:DAYLIGHT
BEGIN:STANDARD
TZOFFSETFROM:-0500
TZOFFSETTO:-0600
TZNAME:CST
DTSTART:20221106T070000
END:STANDARD
BEGIN:DAYLIGHT
TZOFFSETFROM:-0600
TZOFFSETTO:-0500
TZNAME:CDT
DTSTART:20230312T080000
END:DAYLIGHT
BEGIN:STANDARD
TZOFFSETFROM:-0500
TZOFFSETTO:-0600
TZNAME:CST
DTSTART:20231105T070000
END:STANDARD
BEGIN:DAYLIGHT
TZOFFSETFROM:-0600
TZOFFSETTO:-0500
TZNAME:CDT
DTSTART:20240310T080000
END:DAYLIGHT
BEGIN:STANDARD
TZOFFSETFROM:-0500
TZOFFSETTO:-0600
TZNAME:CST
DTSTART:20241103T070000
END:STANDARD
BEGIN:DAYLIGHT
TZOFFSETFROM:-0600
TZOFFSETTO:-0500
TZNAME:CDT
DTSTART:20250309T080000
END:DAYLIGHT
BEGIN:STANDARD
TZOFFSETFROM:-0500
TZOFFSETTO:-0600
TZNAME:CST
DTSTART:20251102T070000
END:STANDARD
BEGIN:DAYLIGHT
TZOFFSETFROM:-0600
TZOFFSETTO:-0500
TZNAME:CDT
DTSTART:20260308T080000
END:DAYLIGHT
BEGIN:STANDARD
TZOFFSETFROM:-0500
TZOFFSETTO:-0600
TZNAME:CST
DTSTART:20261101T070000
END:STANDARD
END:VTIMEZONE
BEGIN:VEVENT
DTSTART;VALUE=DATE:20250807
DTEND;VALUE=DATE:20250811
DTSTAMP:20260419T100531
CREATED:20250619T201031Z
LAST-MODIFIED:20250619T201031Z
UID:10001161-1754524800-1754870399@upnorthaction.com
SUMMARY:Vilas County Fair
DESCRIPTION:Exhibits\, judging\, midway rides\, and refreshments.
URL:https://upnorthaction.com/event/vilas-county-fair-2/
LOCATION:Vilas County Fairgrounds\, 164 Forest St\, Eagle River\, WI\, 54521\, United States
CATEGORIES:Vilas County
ATTACH;FMTTYPE=image/jpeg:https://upnorthaction.com/wp-content/uploads/2025/06/c2b24588-7cba-43a3-a226-fe875abec697-county-fair-2.jpg
END:VEVENT
BEGIN:VEVENT
DTSTART;VALUE=DATE:20250704
DTEND;VALUE=DATE:20250705
DTSTAMP:20260419T100531
CREATED:20250311T183452Z
LAST-MODIFIED:20250311T183452Z
UID:10001037-1751587200-1751673599@upnorthaction.com
SUMMARY:Culpepper & Merriweather Circus
DESCRIPTION:The circus will showcase an array of dazzling performances\, including the grace of big cats\, the artistry of jugglers\, the laughter of clowns\, the thrill of trapeze artists\, the excitement of the Wheel of Destiny\, the balance of tightrope walkers\, and so much more! Tickets will be available in early June\, inviting you to experience this extraordinary journey. \nShows at 2pm & 4:30 pm
URL:https://upnorthaction.com/event/culpepper-merriweather-circus/
LOCATION:Vilas County Fairgrounds\, 164 Forest St\, Eagle River\, WI\, 54521\, United States
CATEGORIES:Vilas County
ATTACH;FMTTYPE=image/jpeg:https://upnorthaction.com/wp-content/uploads/2025/03/images.jpg
END:VEVENT
BEGIN:VEVENT
DTSTART;VALUE=DATE:20230810
DTEND;VALUE=DATE:20230814
DTSTAMP:20260419T100531
CREATED:20230509T195211Z
LAST-MODIFIED:20230509T195211Z
UID:10000765-1691625600-1691971199@upnorthaction.com
SUMMARY:Vilas County Fair
DESCRIPTION:Exhibits\, horse shows\, horseshoe tournament\, judging\, midway rides\, and refreshments.
URL:https://upnorthaction.com/event/vilas-county-fair/
LOCATION:Vilas County Fairgrounds\, 164 Forest St\, Eagle River\, WI\, 54521\, United States
CATEGORIES:Vilas County
ATTACH;FMTTYPE=image/jpeg:https://upnorthaction.com/wp-content/uploads/2023/05/c2b24588-7cba-43a3-a226-fe875abec697-county-fair-2.jpg
END:VEVENT
BEGIN:VEVENT
DTSTART;VALUE=DATE:20221001
DTEND;VALUE=DATE:20221003
DTSTAMP:20260419T100531
CREATED:20220919T211428Z
LAST-MODIFIED:20220919T211428Z
UID:10000550-1664582400-1664755199@upnorthaction.com
SUMMARY:Eagle River Cranberry Fest
DESCRIPTION:The entire city and surrounding area goes cranberry crazy as it praises the Wisconsin state fruit with locals and tourists alike. \nMore than 40\,000 people are expected to attend the annual festival spanning from cranberry marsh tours through a full schedule of events that run through Sunday afternoon.  Food and drink sampling\, arts and craft vendors\, a live auction and so much more make this event worthy of a fall pilgrimage.
URL:https://upnorthaction.com/event/eagle-river-cranberry-fest/
LOCATION:Vilas County Fairgrounds\, 164 Forest St\, Eagle River\, WI\, 54521\, United States
CATEGORIES:Vilas County
ATTACH;FMTTYPE=image/jpeg:https://upnorthaction.com/wp-content/uploads/2022/09/download-3-1.jpg
END:VEVENT
END:VCALENDAR