BEGIN:VCALENDAR
VERSION:2.0
PRODID:-//Up North Action - ECPv6.15.20//NONSGML v1.0//EN
CALSCALE:GREGORIAN
METHOD:PUBLISH
X-ORIGINAL-URL:https://upnorthaction.com
X-WR-CALDESC:Events for Up North Action
REFRESH-INTERVAL;VALUE=DURATION:PT1H
X-Robots-Tag:noindex
X-PUBLISHED-TTL:PT1H
BEGIN:VTIMEZONE
TZID:America/Chicago
BEGIN:DAYLIGHT
TZOFFSETFROM:-0600
TZOFFSETTO:-0500
TZNAME:CDT
DTSTART:20210314T080000
END:DAYLIGHT
BEGIN:STANDARD
TZOFFSETFROM:-0500
TZOFFSETTO:-0600
TZNAME:CST
DTSTART:20211107T070000
END:STANDARD
BEGIN:DAYLIGHT
TZOFFSETFROM:-0600
TZOFFSETTO:-0500
TZNAME:CDT
DTSTART:20220313T080000
END:DAYLIGHT
BEGIN:STANDARD
TZOFFSETFROM:-0500
TZOFFSETTO:-0600
TZNAME:CST
DTSTART:20221106T070000
END:STANDARD
BEGIN:DAYLIGHT
TZOFFSETFROM:-0600
TZOFFSETTO:-0500
TZNAME:CDT
DTSTART:20230312T080000
END:DAYLIGHT
BEGIN:STANDARD
TZOFFSETFROM:-0500
TZOFFSETTO:-0600
TZNAME:CST
DTSTART:20231105T070000
END:STANDARD
END:VTIMEZONE
BEGIN:VEVENT
DTSTART;VALUE=DATE:20220910
DTEND;VALUE=DATE:20220911
DTSTAMP:20260419T103458
CREATED:20220831T200836Z
LAST-MODIFIED:20220915T210117Z
UID:10000523-1662768000-1662854399@upnorthaction.com
SUMMARY:A Country Afternoon
DESCRIPTION:The Knox Creek Heritage Center in Brantwood\, WI\, dedicated to preserving the heritage of the pioneers that settled these great Northwood’s will be hosting “A Country Afternoon”. A social gathering with pulled pork\, brats and hot dogs and more.  Beer Tent.   The grounds will be open at 11:00am\, lunch will be served from 1:00pm – 3:00pm. Homemade Finnish bread and Pulla (a cardamom braid bread) will be available for purchase.  Our Gift Shop will be open with a lot of local author’s books available.  Homemade pie auction.  Music will be provided by “The Paula Hudak Show”.
URL:https://upnorthaction.com/event/a-country-afternoon-2/
LOCATION:Knox Creek Heritage Center\, N4517 W Knox Rd\, Brantwood\, WI\, 54513\, United States
CATEGORIES:Price County
ATTACH;FMTTYPE=image/jpeg:https://upnorthaction.com/wp-content/uploads/2022/08/download-2-2.jpg
END:VEVENT
END:VCALENDAR