BEGIN:VCALENDAR
VERSION:2.0
PRODID:-//Up North Action - ECPv6.15.20//NONSGML v1.0//EN
CALSCALE:GREGORIAN
METHOD:PUBLISH
X-ORIGINAL-URL:https://upnorthaction.com
X-WR-CALDESC:Events for Up North Action
REFRESH-INTERVAL;VALUE=DURATION:PT1H
X-Robots-Tag:noindex
X-PUBLISHED-TTL:PT1H
BEGIN:VTIMEZONE
TZID:America/Chicago
BEGIN:DAYLIGHT
TZOFFSETFROM:-0600
TZOFFSETTO:-0500
TZNAME:CDT
DTSTART:20210314T080000
END:DAYLIGHT
BEGIN:STANDARD
TZOFFSETFROM:-0500
TZOFFSETTO:-0600
TZNAME:CST
DTSTART:20211107T070000
END:STANDARD
BEGIN:DAYLIGHT
TZOFFSETFROM:-0600
TZOFFSETTO:-0500
TZNAME:CDT
DTSTART:20220313T080000
END:DAYLIGHT
BEGIN:STANDARD
TZOFFSETFROM:-0500
TZOFFSETTO:-0600
TZNAME:CST
DTSTART:20221106T070000
END:STANDARD
BEGIN:DAYLIGHT
TZOFFSETFROM:-0600
TZOFFSETTO:-0500
TZNAME:CDT
DTSTART:20230312T080000
END:DAYLIGHT
BEGIN:STANDARD
TZOFFSETFROM:-0500
TZOFFSETTO:-0600
TZNAME:CST
DTSTART:20231105T070000
END:STANDARD
END:VTIMEZONE
BEGIN:VEVENT
DTSTART;VALUE=DATE:20220902
DTEND;VALUE=DATE:20220906
DTSTAMP:20260423T014257
CREATED:20220901T180326Z
LAST-MODIFIED:20220901T180326Z
UID:10000534-1662076800-1662422399@upnorthaction.com
SUMMARY:Ontonagon Labor Day Festival
DESCRIPTION:The Ontonagon Labor Day Festival marks the end of the summer season. The Festival begins on Friday\, with a community picnic and ends on Labor Day\, Monday.  There will be an auto show\, volleyball tournament\, sidewalk chalk art\, a scavenger hunt\, kiddie parade\, live music\, fireworks\, a memorial run & walk\, and lots more!
URL:https://upnorthaction.com/event/ontonagon-labor-day-festival/
LOCATION:Village of Ontanogan\, 315 Quartz Street\, Ontonagon\, Michigan\, 49953
CATEGORIES:Upper Peninsula of Michigan
ATTACH;FMTTYPE=image/jpeg:https://upnorthaction.com/wp-content/uploads/2022/09/69508569_1632076076923029_4683343772484894720_n.jpg
END:VEVENT
END:VCALENDAR