BEGIN:VCALENDAR
VERSION:2.0
PRODID:-//Up North Action - ECPv6.15.20//NONSGML v1.0//EN
CALSCALE:GREGORIAN
METHOD:PUBLISH
X-ORIGINAL-URL:https://upnorthaction.com
X-WR-CALDESC:Events for Up North Action
REFRESH-INTERVAL;VALUE=DURATION:PT1H
X-Robots-Tag:noindex
X-PUBLISHED-TTL:PT1H
BEGIN:VTIMEZONE
TZID:America/Chicago
BEGIN:DAYLIGHT
TZOFFSETFROM:-0600
TZOFFSETTO:-0500
TZNAME:CDT
DTSTART:20250309T080000
END:DAYLIGHT
BEGIN:STANDARD
TZOFFSETFROM:-0500
TZOFFSETTO:-0600
TZNAME:CST
DTSTART:20251102T070000
END:STANDARD
BEGIN:DAYLIGHT
TZOFFSETFROM:-0600
TZOFFSETTO:-0500
TZNAME:CDT
DTSTART:20260308T080000
END:DAYLIGHT
BEGIN:STANDARD
TZOFFSETFROM:-0500
TZOFFSETTO:-0600
TZNAME:CST
DTSTART:20261101T070000
END:STANDARD
BEGIN:DAYLIGHT
TZOFFSETFROM:-0600
TZOFFSETTO:-0500
TZNAME:CDT
DTSTART:20270314T080000
END:DAYLIGHT
BEGIN:STANDARD
TZOFFSETFROM:-0500
TZOFFSETTO:-0600
TZNAME:CST
DTSTART:20271107T070000
END:STANDARD
END:VTIMEZONE
BEGIN:VEVENT
DTSTART;TZID=America/Chicago:20260502T180000
DTEND;TZID=America/Chicago:20260502T220000
DTSTAMP:20260421T125313
CREATED:20260212T155800Z
LAST-MODIFIED:20260212T155800Z
UID:10001245-1777744800-1777759200@upnorthaction.com
SUMMARY:Martinis in May
DESCRIPTION:Comedian Johnny Carson said\, “Happiness is finding two olives in your martini when you’re hungry.” Enjoy an evening of libations\, food\, and live music with Tony Ocean as local bartenders compete in three categories: People’s Choice\, Judge’s Choice\, and Best Presentation.
URL:https://upnorthaction.com/event/martinis-in-may-2/
LOCATION:Whitetail Inn\, 9038 State Highway 70 W\, St Germain\, WI\, 54558
CATEGORIES:Vilas County
ATTACH;FMTTYPE=image/avif:https://upnorthaction.com/wp-content/uploads/2026/02/EventPhotoMini_DEV_5989.jpg.avif
END:VEVENT
BEGIN:VEVENT
DTSTART;TZID=America/Chicago:20260516T090000
DTEND;TZID=America/Chicago:20260516T130000
DTSTAMP:20260421T125313
CREATED:20260212T191040Z
LAST-MODIFIED:20260212T191040Z
UID:10001256-1778922000-1778936400@upnorthaction.com
SUMMARY:White Deer Triathlon
DESCRIPTION:Paddle\, Bike\, & Run. Boulder Junction’s premiere race is back and better than ever.
URL:https://upnorthaction.com/event/white-deer-triathlon-3/
LOCATION:Boulder Junction\, Boulder Junction\, WI\, 54512
CATEGORIES:Vilas County
ATTACH;FMTTYPE=image/jpeg:https://upnorthaction.com/wp-content/uploads/2026/02/download-2.jpg
END:VEVENT
BEGIN:VEVENT
DTSTART;TZID=America/Chicago:20260523T100000
DTEND;TZID=America/Chicago:20260523T150000
DTSTAMP:20260421T125313
CREATED:20260212T192824Z
LAST-MODIFIED:20260212T192824Z
UID:10001257-1779530400-1779548400@upnorthaction.com
SUMMARY:Wheels\, Wings and Watercraft Show
DESCRIPTION:Annual family-friendly event that features airplanes\, classic cars/trucks\, vintage boats\, motorcycles\, and more on display. Great food\, live music and activities for the kids!
URL:https://upnorthaction.com/event/wheels-wings-and-watercraft-show/
LOCATION:Manitowish Waters Community Center\, Airport Road\, Manitowish Waters\, WI\, 54545\, United States
CATEGORIES:Vilas County
ATTACH;FMTTYPE=image/jpeg:https://upnorthaction.com/wp-content/uploads/2026/02/download-3.jpg
END:VEVENT
BEGIN:VEVENT
DTSTART;TZID=America/Chicago:20260524T070000
DTEND;TZID=America/Chicago:20260524T150000
DTSTAMP:20260421T125313
CREATED:20260212T160550Z
LAST-MODIFIED:20260212T160550Z
UID:10001246-1779606000-1779634800@upnorthaction.com
SUMMARY:Classic Sled Roundup
DESCRIPTION:It may be Springtime but the thought of owning and admiring a snowmobile never takes a season off. The Snowmobile Hall of Fame hosts its annual Classic Sled Roundup at the St Germain Community Park. The event will include vintage snowmobile displays and one of the best swap meets in the Midwest. Visit the Hall of Fame website for spaces. Don’t forget to buy a raffle ticket! \nFree to the public\, takes place rain or shine
URL:https://upnorthaction.com/event/classic-sled-roundup-2/
LOCATION:St Germain Community Park\, 545 State Highway 155\, St Germain\, WI\, 54558
CATEGORIES:Vilas County
ATTACH;FMTTYPE=image/jpeg:https://upnorthaction.com/wp-content/uploads/2026/02/download-31.jpg
END:VEVENT
BEGIN:VEVENT
DTSTART;TZID=America/Chicago:20260524T100000
DTEND;TZID=America/Chicago:20260524T160000
DTSTAMP:20260421T125313
CREATED:20260212T193402Z
LAST-MODIFIED:20260212T193402Z
UID:10001258-1779616800-1779638400@upnorthaction.com
SUMMARY:Memorial Day Arts Crafts Show & Sidewalk Sales
DESCRIPTION:Kicking off the summer tourist-filled season\, this arts and crafts show features many crafters and artists from the area. Food will be available as well as live music. Also featured will be downtown businesses placing sale products on tables outside their stores.
URL:https://upnorthaction.com/event/memorial-day-arts-crafts-show-sidewalk-sales/
LOCATION:Downtown Eagle River\, Eagle River\, WI\, 54521\, United States
CATEGORIES:Vilas County
ATTACH;FMTTYPE=image/jpeg:https://upnorthaction.com/wp-content/uploads/2026/02/download-4.jpg
END:VEVENT
BEGIN:VEVENT
DTSTART;VALUE=DATE:20260606
DTEND;VALUE=DATE:20260607
DTSTAMP:20260421T125313
CREATED:20260212T163050Z
LAST-MODIFIED:20260212T163050Z
UID:10001247-1780704000-1780790399@upnorthaction.com
SUMMARY:FORK on the River Paddle and Party
DESCRIPTION:A relaxing 2-hour paddle down the Wisconsin River with Family & Friends. Upon returning enjoy Good Food\, Great Music by Bret and Frisk & Refreshing beverages at Wildwood Outdoor Adventures & Campground w/ FORK (Feed our Rural Kids)! Proceeds to benefit FORK.
URL:https://upnorthaction.com/event/fork-on-the-river-paddle-and-party/
LOCATION:Wildwood Outdoor Adventures\, 5230 Livin' the Dream Way\, Eagle River\, WI\, 54521
CATEGORIES:Vilas County
ATTACH;FMTTYPE=image/jpeg:https://upnorthaction.com/wp-content/uploads/2026/02/download-32-2.jpg
END:VEVENT
BEGIN:VEVENT
DTSTART;TZID=America/Chicago:20260606T100000
DTEND;TZID=America/Chicago:20260606T150000
DTSTAMP:20260421T125313
CREATED:20260212T205827Z
LAST-MODIFIED:20260212T205929Z
UID:10001259-1780740000-1780758000@upnorthaction.com
SUMMARY:Lac du Flambeau Lakes Fest
DESCRIPTION:Environmental information\, kids games\, raffles\, canoe races\, live entertainment and more for the whole family.
URL:https://upnorthaction.com/event/lac-du-flambeau-lakes-fest/
LOCATION:Lac du Flambeau Tribal Natural Resources Facility\, 2549 Highway 37\, Lac du Flambeau\, WI\, 54538
CATEGORIES:Vilas County
ATTACH;FMTTYPE=image/jpeg:https://upnorthaction.com/wp-content/uploads/2026/02/download-5.jpg
END:VEVENT
BEGIN:VEVENT
DTSTART;TZID=America/Chicago:20260613T090000
DTEND;TZID=America/Chicago:20260613T150000
DTSTAMP:20260421T125313
CREATED:20260212T163844Z
LAST-MODIFIED:20260212T163844Z
UID:10001248-1781341200-1781362800@upnorthaction.com
SUMMARY:Walk in the Woods Art Fair
DESCRIPTION:Stroll among the pines at our 19th Annual Walk in the Woods Art Fair. Shop from regional artists with an eclectic mix of pottery\, paintings\, photography\, wood carvings\, homemade candles\, and jewelry. Enjoy wine sampling and live music as you walk through the woods to find one-of-a-kind treasures at the St Germain Chamber. Food and beverages will be provided by the St Germain Lions Club.
URL:https://upnorthaction.com/event/walk-in-the-woods-art-fair-3/
LOCATION:St Germain Chamber Park\, 473 Highway 70 E\, St Germain\, WI\, 54558
CATEGORIES:Vilas County
ATTACH;FMTTYPE=image/jpeg:https://upnorthaction.com/wp-content/uploads/2026/02/EventPhotoMini_Walk20in20the20Woods20F-1.jpg
END:VEVENT
BEGIN:VEVENT
DTSTART;VALUE=DATE:20260619
DTEND;VALUE=DATE:20260622
DTSTAMP:20260421T125313
CREATED:20260212T210713Z
LAST-MODIFIED:20260212T210713Z
UID:10001260-1781827200-1782086399@upnorthaction.com
SUMMARY:Solstice Festival
DESCRIPTION:The Solstice Festival in Manitowish Waters is for friends and families to enjoy our area trails and the beauty that surrounds us while promoting an active\, healthy lifestyle. \nThe Solstice Festival is a first-class\, family-friendly event that promotes Northwoods tourism through cycling\, jogging and trail running. \nThe annual Solstice Festival is one of the area’s most anticipated\, premier community events\, offering a range of routes and activities\, all planned around fun and the longest day of the year.
URL:https://upnorthaction.com/event/solstice-festival/
LOCATION:Manitowish Waters\, Manitowish Waters\, WI\, 54545\, United States
CATEGORIES:Vilas County
ATTACH;FMTTYPE=image/jpeg:https://upnorthaction.com/wp-content/uploads/2026/02/download-6.jpg
END:VEVENT
BEGIN:VEVENT
DTSTART;TZID=America/Chicago:20260619T160000
DTEND;TZID=America/Chicago:20260619T210000
DTSTAMP:20260421T125313
CREATED:20260326T204451Z
LAST-MODIFIED:20260326T204451Z
UID:10001301-1781884800-1781902800@upnorthaction.com
SUMMARY:Summer Solstice Night Market
DESCRIPTION:Celebrate the longest day of the year at the Summer Solstice Night Market in downtown Three Lakes. Browse a lively evening market featuring local makers and vendors\, enjoy live music\, grab dinner from food trucks\, and bring the kids for family-friendly activities. Keep an eye out for a special meet-and-greet with a pair of very popular blue heeler sisters. Shop\, stroll\, and soak up a festive Northwoods summer evening in the heart of downtown.
URL:https://upnorthaction.com/event/summer-solstice-night-market/
LOCATION:Downtown Three Lakes\, Three Lakes\, WI\, 54562
CATEGORIES:Vilas County
ATTACH;FMTTYPE=image/jpeg:https://upnorthaction.com/wp-content/uploads/2026/03/three-lakes-summer-solstice-night-market-family-e1774557871475.jpg
END:VEVENT
BEGIN:VEVENT
DTSTART;TZID=America/Chicago:20260624T170000
DTEND;TZID=America/Chicago:20260624T210000
DTSTAMP:20260421T125313
CREATED:20260212T211100Z
LAST-MODIFIED:20260212T211100Z
UID:10001261-1782320400-1782334800@upnorthaction.com
SUMMARY:Phelps EMS Picnic in the Park
DESCRIPTION:Enjoy food\, drinks\, live music\, raffles and more. Proceeds benefit Phelps EMS.
URL:https://upnorthaction.com/event/phelps-ems-picnic-in-the-park/
LOCATION:Wavering Park\, 2221 E Hill Rd\, Phelps\, WI\, 54554
CATEGORIES:Vilas County
ATTACH;FMTTYPE=image/jpeg:https://upnorthaction.com/wp-content/uploads/2026/02/download-7.jpg
END:VEVENT
BEGIN:VEVENT
DTSTART;VALUE=DATE:20260625
DTEND;VALUE=DATE:20260628
DTSTAMP:20260421T125313
CREATED:20260212T211940Z
LAST-MODIFIED:20260212T211940Z
UID:10001262-1782345600-1782604799@upnorthaction.com
SUMMARY:Antique Snowmobile Club of America 50th year Celebration
DESCRIPTION:Join the ASCOA for their 50th Celebration \nDisplay of antique and vintage snowmobiles at the Derby Track \nfood and beverages will be available
URL:https://upnorthaction.com/event/antique-snowmobile-club-of-america-50th-year-celebration/
LOCATION:Eagle River Derby Track Exposition Hall\, 1311 N Railroad St\, Eagle River\, WI\, 54521
CATEGORIES:Vilas County
ATTACH;FMTTYPE=image/jpeg:https://upnorthaction.com/wp-content/uploads/2026/02/download-8.jpg
END:VEVENT
BEGIN:VEVENT
DTSTART;TZID=America/Chicago:20260627T100000
DTEND;TZID=America/Chicago:20260627T160000
DTSTAMP:20260421T125313
CREATED:20260212T212800Z
LAST-MODIFIED:20260212T212800Z
UID:10001263-1782554400-1782576000@upnorthaction.com
SUMMARY:Presque Isle Days
DESCRIPTION:Presque Isle Days is the best time to come to visit! Bring the family to enjoy a lumberjack show\, vendors and live music!
URL:https://upnorthaction.com/event/presque-isle-days-2/
LOCATION:Downtown Presque Isle\, Presque Isle\, WI\, 54557
CATEGORIES:Vilas County
ATTACH;FMTTYPE=image/jpeg:https://upnorthaction.com/wp-content/uploads/2026/02/download-9.jpg
END:VEVENT
BEGIN:VEVENT
DTSTART;VALUE=DATE:20260628
DTEND;VALUE=DATE:20260629
DTSTAMP:20260421T125313
CREATED:20260212T165307Z
LAST-MODIFIED:20260212T165307Z
UID:10001249-1782604800-1782691199@upnorthaction.com
SUMMARY:St Germain Freedom 5K & 1K
DESCRIPTION:The Freedom 5K Fun Run is held in conjunction with the annual St Germain Independence Day Celebrations. The event has proven to be a resounding success\, drawing participants from across the United States and around the world. The race course winds through the beautiful Awassa Trails property\, which is owned by the Town of St. Germain. We are proud that we have been able to provide residents and vacationers a fun and healthy way to enjoy the beauty of our Northwoods. \nProceeds from the race will be used for developing and maintaining the non-motorized recreational trails in our community\, thereby promoting healthier recreational opportunities for everyone.
URL:https://upnorthaction.com/event/st-germain-freedom-5k-1k/
LOCATION:St Germain Community Park\, 545 State Highway 155\, St Germain\, WI\, 54558
CATEGORIES:Vilas County
ATTACH;FMTTYPE=image/jpeg:https://upnorthaction.com/wp-content/uploads/2026/02/download-33.jpg
END:VEVENT
BEGIN:VEVENT
DTSTART;TZID=America/Chicago:20260628T090000
DTEND;TZID=America/Chicago:20260628T150000
DTSTAMP:20260421T125313
CREATED:20260212T165902Z
LAST-MODIFIED:20260212T165902Z
UID:10001250-1782637200-1782658800@upnorthaction.com
SUMMARY:St Germain IDC Craft Show
DESCRIPTION:St Germain celebrates Independence Day early and all day long! The Independence Day Celebration includes a craft show. This year it will be located in left field of the ballpark in the St Germain Community Park. While shopping\, enjoy food\, music\, demonstrations\, and more!
URL:https://upnorthaction.com/event/st-germain-idc-craft-show/
LOCATION:St Germain Community Park\, 545 State Highway 155\, St Germain\, WI\, 54558
CATEGORIES:Vilas County
ATTACH;FMTTYPE=image/jpeg:https://upnorthaction.com/wp-content/uploads/2026/02/download-34.jpg
END:VEVENT
BEGIN:VEVENT
DTSTART;TZID=America/Chicago:20260628T110000
DTEND;TZID=America/Chicago:20260628T150000
DTSTAMP:20260421T125313
CREATED:20260212T213319Z
LAST-MODIFIED:20260212T213548Z
UID:10001264-1782644400-1782658800@upnorthaction.com
SUMMARY:Taste of Conover
DESCRIPTION:Sample delicious specialty foods from area businesses. Great food\, bounce house for the kids and music.
URL:https://upnorthaction.com/event/taste-of-conover-3/
LOCATION:Conover Recreation Center\, 4697 Park Circle\, Conover\, WI\, 54519
CATEGORIES:Vilas County
ATTACH;FMTTYPE=image/jpeg:https://upnorthaction.com/wp-content/uploads/2026/02/download-10-1.jpg
END:VEVENT
BEGIN:VEVENT
DTSTART;VALUE=DATE:20260704
DTEND;VALUE=DATE:20260705
DTSTAMP:20260421T125313
CREATED:20260217T191708Z
LAST-MODIFIED:20260217T191708Z
UID:10001265-1783123200-1783209599@upnorthaction.com
SUMMARY:Manitowish Waters Independence Day Celebration
DESCRIPTION:Family friendly activities\, parade\, Skiing Skeeters water ski show\, and fireworks.
URL:https://upnorthaction.com/event/manitowish-waters-independence-day-celebration/
LOCATION:Manitowish Waters\, Manitowish Waters\, WI\, 54545\, United States
CATEGORIES:Vilas County
ATTACH;FMTTYPE=image/jpeg:https://upnorthaction.com/wp-content/uploads/2026/02/download-11.jpg
END:VEVENT
BEGIN:VEVENT
DTSTART;VALUE=DATE:20260704
DTEND;VALUE=DATE:20260705
DTSTAMP:20260421T125313
CREATED:20260217T192043Z
LAST-MODIFIED:20260217T192043Z
UID:10001266-1783123200-1783209599@upnorthaction.com
SUMMARY:Lac du Flambeau 4th of July Celebration
DESCRIPTION:Kiddie Parade\, Full Parade\, Vendors \, Pow Wow and Fireworks at dusk
URL:https://upnorthaction.com/event/lac-du-flambeau-4th-of-july-celebration/
LOCATION:Downtown Lac du Flambeau\, Peacepipe Rd & Simpson Ave.\, Lac du Flambeau\, WI\, 54538\, United States
CATEGORIES:Vilas County
ATTACH;FMTTYPE=image/jpeg:https://upnorthaction.com/wp-content/uploads/2026/02/download-12.jpg
END:VEVENT
BEGIN:VEVENT
DTSTART;TZID=America/Chicago:20260704T100000
DTEND;TZID=America/Chicago:20260704T150000
DTSTAMP:20260421T125313
CREATED:20260217T193617Z
LAST-MODIFIED:20260217T193617Z
UID:10001269-1783159200-1783177200@upnorthaction.com
SUMMARY:Eagle River 4th of July Celebration
DESCRIPTION:Celebrate our Nations’ freedom and Eagle River’s hometown pride by taking in our spectacular parade with over 60 entrants including many specialty floats. Then afterwards Join us for our 4th of July Party in the Street for family games\, music\, food\, and a beer garden.
URL:https://upnorthaction.com/event/eagle-river-4th-of-july-celebration/
LOCATION:Eagle River\, Eagle River\, WI\, 54521
CATEGORIES:Vilas County
ATTACH;FMTTYPE=image/jpeg:https://upnorthaction.com/wp-content/uploads/2026/02/download-13.jpg
END:VEVENT
BEGIN:VEVENT
DTSTART;TZID=America/Chicago:20260704T120000
DTEND;TZID=America/Chicago:20260704T160000
DTSTAMP:20260421T125313
CREATED:20260217T193205Z
LAST-MODIFIED:20260217T193205Z
UID:10001268-1783166400-1783180800@upnorthaction.com
SUMMARY:Land O' Lakes Independence Day Parade & Party in the Park
DESCRIPTION:Small town parade followed by Party in the Park which offers great food\, drinks\, kids games\, and free live music.
URL:https://upnorthaction.com/event/land-o-lakes-independence-day-parade-party-in-the-park/
LOCATION:Pavilion Park – Land O’ Lakes\, 6480 Chippewa Dr\, Land O' Lakes\, WI\, 54520
CATEGORIES:Vilas County
ATTACH;FMTTYPE=image/jpeg:https://upnorthaction.com/wp-content/uploads/2026/02/images.jpg
END:VEVENT
BEGIN:VEVENT
DTSTART;TZID=America/Chicago:20260704T120000
DTEND;TZID=America/Chicago:20260704T220000
DTSTAMP:20260421T125313
CREATED:20260217T194226Z
LAST-MODIFIED:20260217T194226Z
UID:10001270-1783166400-1783202400@upnorthaction.com
SUMMARY:Sayner 4th of July Celebration
DESCRIPTION:Join us for our community parade on HWY 155 and fun in the park with fireworks at dusk.
URL:https://upnorthaction.com/event/sayner-4th-of-july-celebration/
LOCATION:Sayner Town Park\, Sayner\, WI\, 54560
CATEGORIES:Vilas County
ATTACH;FMTTYPE=image/jpeg:https://upnorthaction.com/wp-content/uploads/2022/06/40b76c6a-80f0-4e89-a891-d5d8cd17b425-fireworks-4.jpg
END:VEVENT
BEGIN:VEVENT
DTSTART;TZID=America/Chicago:20260704T120000
DTEND;TZID=America/Chicago:20260704T223000
DTSTAMP:20260421T125313
CREATED:20260217T192531Z
LAST-MODIFIED:20260217T192637Z
UID:10001267-1783166400-1783204200@upnorthaction.com
SUMMARY:Boulder Junction's Star Spangled Jubilee & Fireworks
DESCRIPTION:Join us in Boulder Junction for our 4th of July Parade starting at 12pm. Fireworks at dusk at the Boulder Junction Airport.
URL:https://upnorthaction.com/event/boulder-junctions-star-spangled-jubilee-fireworks/
LOCATION:Boulder Junction\, Boulder Junction\, WI\, 54512
CATEGORIES:Vilas County
ATTACH;FMTTYPE=image/jpeg:https://upnorthaction.com/wp-content/uploads/2023/06/016d3aa4-5ee8-446c-ba68-dc2e6eae15bd-fireworks-1.jpg
END:VEVENT
BEGIN:VEVENT
DTSTART;TZID=America/Chicago:20260704T130000
DTEND;TZID=America/Chicago:20260704T160000
DTSTAMP:20260421T125313
CREATED:20260217T194622Z
LAST-MODIFIED:20260217T194622Z
UID:10001271-1783170000-1783180800@upnorthaction.com
SUMMARY:Conover 4th of July Celebration
DESCRIPTION:Enjoy the 4th of July in Conover. Parade on Hwy K\, picnic in the park and water ski show on Lake Pleasant. All in Conover.
URL:https://upnorthaction.com/event/conover-4th-of-july-celebration/
LOCATION:Conover Recreation Center\, 4697 Park Circle\, Conover\, WI\, 54519
CATEGORIES:Vilas County
ATTACH;FMTTYPE=image/jpeg:https://upnorthaction.com/wp-content/uploads/2026/02/download-14.jpg
END:VEVENT
BEGIN:VEVENT
DTSTART;TZID=America/Chicago:20260704T150000
DTEND;TZID=America/Chicago:20260704T223000
DTSTAMP:20260421T125313
CREATED:20260217T194828Z
LAST-MODIFIED:20260217T195001Z
UID:10001272-1783177200-1783204200@upnorthaction.com
SUMMARY:Phelps 4th on the Lake
DESCRIPTION:Celebrate 4th of July on the lake in Downtown Phelps. Street parade\, boat parade\, live music\, food trucks and beer tent\, cornhole tournament\, bounce house\, dunk tank\, raffles\, and ends with fireworks!
URL:https://upnorthaction.com/event/phelps-4th-on-the-lake/
LOCATION:Downtown Phelps\, Phelps\, WI\, 54554\, United States
CATEGORIES:Vilas County
ATTACH;FMTTYPE=image/jpeg:https://upnorthaction.com/wp-content/uploads/2026/02/download-11.jpg
END:VEVENT
BEGIN:VEVENT
DTSTART;VALUE=DATE:20260710
DTEND;VALUE=DATE:20260713
DTSTAMP:20260421T125313
CREATED:20260217T195653Z
LAST-MODIFIED:20260217T195653Z
UID:10001273-1783641600-1783900799@upnorthaction.com
SUMMARY:Bear River Traditional Pow Wow
DESCRIPTION:Come and enjoy a Traditional Pow Wow and fun for the entire family
URL:https://upnorthaction.com/event/bear-river-traditional-pow-wow/
LOCATION:Bear River Pow Wow Grounds\, 14799 Old Pow Wow Trail\, Lac du Flambeau\, WI\, 54538
CATEGORIES:Vilas County
ATTACH;FMTTYPE=image/jpeg:https://upnorthaction.com/wp-content/uploads/2026/02/download-15.jpg
END:VEVENT
BEGIN:VEVENT
DTSTART;VALUE=DATE:20260711
DTEND;VALUE=DATE:20260712
DTSTAMP:20260421T125313
CREATED:20260212T170712Z
LAST-MODIFIED:20260212T170712Z
UID:10001251-1783728000-1783814399@upnorthaction.com
SUMMARY:Pedal in the Pines
DESCRIPTION:Bring your bike to St Germain for the St Germain Silent Trails U.A. second annual Pedal in the Pines. Choose from a nine-mile or eighteen-mile wooded trail or a 35-mile road ride. it’s a beautiful way to spend the day! \nIncluded in the registration fee are a t-shirt\, snacks\, a lunch\, up to three beverages\, and SAG vehicle support. Door prizes\, too! Proceeds support the St Germain Silent Trails U.A. non-profit group.
URL:https://upnorthaction.com/event/pedal-in-the-pines/
LOCATION:St Germain Community Park\, 545 State Highway 155\, St Germain\, WI\, 54558
CATEGORIES:Vilas County
ATTACH;FMTTYPE=image/jpeg:https://upnorthaction.com/wp-content/uploads/2026/02/download-35.jpg
END:VEVENT
BEGIN:VEVENT
DTSTART;TZID=America/Chicago:20260712T170000
DTEND;TZID=America/Chicago:20260712T210000
DTSTAMP:20260421T125313
CREATED:20260217T200126Z
LAST-MODIFIED:20260217T200126Z
UID:10001274-1783875600-1783890000@upnorthaction.com
SUMMARY:Phelps Snowmobile Club Summer Ride Picnic
DESCRIPTION:Live music\, food trucks\, beer tent and raffles!
URL:https://upnorthaction.com/event/phelps-snowmobile-club-summer-ride-picnic-2/
LOCATION:Lakefront Pines Park\, Phelps\, WI\, 54554
CATEGORIES:Vilas County
ATTACH;FMTTYPE=image/jpeg:https://upnorthaction.com/wp-content/uploads/2026/02/download-16.jpg
END:VEVENT
BEGIN:VEVENT
DTSTART;VALUE=DATE:20260716
DTEND;VALUE=DATE:20260720
DTSTAMP:20260421T125313
CREATED:20260217T200946Z
LAST-MODIFIED:20260217T200946Z
UID:10001275-1784160000-1784505599@upnorthaction.com
SUMMARY:Manito Art League Art Show
DESCRIPTION:Celebrating 60 years of promoting Great Art in our Great Northwoods. Featuring all-new original fine art by local artists\, all available for sale.
URL:https://upnorthaction.com/event/manito-art-league-art-show-2/
LOCATION:Manitowish Waters Community Center\, Airport Road\, Manitowish Waters\, WI\, 54545\, United States
CATEGORIES:Vilas County
ATTACH;FMTTYPE=image/jpeg:https://upnorthaction.com/wp-content/uploads/2026/02/download-17.jpg
END:VEVENT
BEGIN:VEVENT
DTSTART;VALUE=DATE:20260724
DTEND;VALUE=DATE:20260727
DTSTAMP:20260421T125313
CREATED:20260217T203129Z
LAST-MODIFIED:20260217T203129Z
UID:10001279-1784851200-1785110399@upnorthaction.com
SUMMARY:North Woods Art Tour
DESCRIPTION:A self-guided tour of artist owned galleries and studios. Artist demonstrations and art available for purchase.
URL:https://upnorthaction.com/event/north-woods-art-tour-7/
LOCATION:WI
CATEGORIES:Iron County,Lincoln County,Oneida County,Vilas County
ATTACH;FMTTYPE=image/jpeg:https://upnorthaction.com/wp-content/uploads/2026/02/download-20.jpg
END:VEVENT
BEGIN:VEVENT
DTSTART;TZID=America/Chicago:20260724T170000
DTEND;TZID=America/Chicago:20260724T220000
DTSTAMP:20260421T125313
CREATED:20260217T201435Z
LAST-MODIFIED:20260217T201435Z
UID:10001276-1784912400-1784930400@upnorthaction.com
SUMMARY:Summer Party in Phelps
DESCRIPTION:Chain Skimmers Water Ski Team Show on North Twin Lake in downtown Phelps followed by live music\, food trucks and beer tent.
URL:https://upnorthaction.com/event/summer-party-in-phelps/
LOCATION:Lakefront Pines Park\, Phelps\, WI\, 54554
CATEGORIES:Vilas County
ATTACH;FMTTYPE=image/jpeg:https://upnorthaction.com/wp-content/uploads/2026/02/images-1.jpg
END:VEVENT
END:VCALENDAR