BEGIN:VCALENDAR
VERSION:2.0
PRODID:-//Up North Action - ECPv6.15.20//NONSGML v1.0//EN
CALSCALE:GREGORIAN
METHOD:PUBLISH
X-WR-CALNAME:Up North Action
X-ORIGINAL-URL:https://upnorthaction.com
X-WR-CALDESC:Events for Up North Action
REFRESH-INTERVAL;VALUE=DURATION:PT1H
X-Robots-Tag:noindex
X-PUBLISHED-TTL:PT1H
BEGIN:VTIMEZONE
TZID:America/Chicago
BEGIN:DAYLIGHT
TZOFFSETFROM:-0600
TZOFFSETTO:-0500
TZNAME:CDT
DTSTART:20210314T080000
END:DAYLIGHT
BEGIN:STANDARD
TZOFFSETFROM:-0500
TZOFFSETTO:-0600
TZNAME:CST
DTSTART:20211107T070000
END:STANDARD
BEGIN:DAYLIGHT
TZOFFSETFROM:-0600
TZOFFSETTO:-0500
TZNAME:CDT
DTSTART:20220313T080000
END:DAYLIGHT
BEGIN:STANDARD
TZOFFSETFROM:-0500
TZOFFSETTO:-0600
TZNAME:CST
DTSTART:20221106T070000
END:STANDARD
BEGIN:DAYLIGHT
TZOFFSETFROM:-0600
TZOFFSETTO:-0500
TZNAME:CDT
DTSTART:20230312T080000
END:DAYLIGHT
BEGIN:STANDARD
TZOFFSETFROM:-0500
TZOFFSETTO:-0600
TZNAME:CST
DTSTART:20231105T070000
END:STANDARD
BEGIN:DAYLIGHT
TZOFFSETFROM:-0600
TZOFFSETTO:-0500
TZNAME:CDT
DTSTART:20240310T080000
END:DAYLIGHT
BEGIN:STANDARD
TZOFFSETFROM:-0500
TZOFFSETTO:-0600
TZNAME:CST
DTSTART:20241103T070000
END:STANDARD
END:VTIMEZONE
BEGIN:VEVENT
DTSTART;TZID=America/Chicago:20230415T100000
DTEND;TZID=America/Chicago:20230415T150000
DTSTAMP:20260422T170239
CREATED:20230411T154528Z
LAST-MODIFIED:20230411T154528Z
UID:10000673-1681552800-1681570800@upnorthaction.com
SUMMARY:Sturgeon Feast Pow Wow
DESCRIPTION:Sturgeon Coming Home. Drug and alcohol free event. Individual boxed sturgeon and feast food will be given out following the Pow Wow. Honorarium for invited drums only. Traditional art vendors\, Water walk at 10am at Keshena Falls. Grand Entry at 1pm. \n\n\n 
URL:https://upnorthaction.com/event/sturgeon-feast-pow-wow/
LOCATION:Omaeqnomenewak Wetohkatikamek/Family and Community Engagement center\, W2908 Tribal Office Loop Road\, Keshena\, WI\, 54135
CATEGORIES:Menominee County
ATTACH;FMTTYPE=image/jpeg:https://upnorthaction.com/wp-content/uploads/2023/04/88c5c655-6e87-40e9-be70-cd607c026577-sturgeon-pic.jpg
END:VEVENT
BEGIN:VEVENT
DTSTART;VALUE=DATE:20220903
DTEND;VALUE=DATE:20220904
DTSTAMP:20260422T170239
CREATED:20220831T211859Z
LAST-MODIFIED:20220831T212024Z
UID:10000530-1662163200-1662249599@upnorthaction.com
SUMMARY:Novitiate Walking Tours
DESCRIPTION:Come walk around the Novitiate property and see the progress. Check out the beautiful new roof! The mansion is a work in progress\, so we hope you will be patient with some of the construction debris\, but we want to invite you out to the property to join in with the love and care that is going into the property. Paula Rabideaux – Menominee Culture Keeper\, Presenter\, jewelry maker\, Pat Rick – Author of “The Abbey and Me” and Curt Knoke – photographer and local historian will be on hand to chat with you and answer questions. $10 per CARLOAD; money collected will be donated to Menominee and Gresham schools.
URL:https://upnorthaction.com/event/novitiate-walking-tours/
LOCATION:Novitiate\, W9711 Butternut Rd\, Gresham\, WI\, 54128
CATEGORIES:Menominee County
ATTACH;FMTTYPE=image/jpeg:https://upnorthaction.com/wp-content/uploads/2022/08/images-1.jpg
END:VEVENT
BEGIN:VEVENT
DTSTART;TZID=America/Chicago:20220626T100000
DTEND;TZID=America/Chicago:20220626T153000
DTSTAMP:20260422T170239
CREATED:20220621T201316Z
LAST-MODIFIED:20220621T201316Z
UID:10000449-1656237600-1656257400@upnorthaction.com
SUMMARY:St. Michael’s Parish Festival
DESCRIPTION:Food\, crafters\, cake walk\, yard sale\, raffle. Will have Tribal Police & Sheriff Department bringing their K-9 units\, Thrift and Gift and Household garage open\, free kids games.\nN816 Hwy 47/55\, Keshena
URL:https://upnorthaction.com/event/st-michaels-parish-festival/
LOCATION:Keshena\, Keshena\, WI
CATEGORIES:Menominee County
ATTACH;FMTTYPE=image/jpeg:https://upnorthaction.com/wp-content/uploads/2022/06/StMichaelsFest.jpg
END:VEVENT
END:VCALENDAR